BEGIN:VCALENDAR
VERSION:2.0
PRODID:-//Hansetrucker Bremen e.V.//NONSGML kigkonsult.se iCalcreator 2.41.92//
CALSCALE:GREGORIAN
METHOD:PUBLISH
UID:39393532-3037-4435-a432-326465383231
X-WR-CALNAME:iCagenda
X-WR-CALDESC:Event Management Extension for Joomla!
X-WR-RELCALID:3E26604A-50F4-4449-8B3E-E4F4932D05B5
X-WR-TIMEZONE:UTC
BEGIN:VTIMEZONE
TZID:UTC
END:VTIMEZONE
BEGIN:VEVENT
UID:62323664-6564-4565-b562-303361346230
DTSTAMP:20260424T134724Z
CATEGORIES:Clubabend
CLASS:PUBLIC
DESCRIPTION:
DTSTART:20260820T190000Z
DTEND:20260820T210000Z
GEO:+53.046474;+8.894636
LOCATION:Seekamp's Gasthaus
ORGANIZER:
SEQUENCE:1
SUMMARY:Clubabend
TRANSP:OPAQUE
URL:https://testjoomla.hansetrucker.de/index.php/component/icagenda/100-clu
 babend-15?layout=vcal
END:VEVENT
END:VCALENDAR
