BEGIN:VCALENDAR
VERSION:2.0
PRODID:-//Hansetrucker Bremen e.V.//NONSGML kigkonsult.se iCalcreator 2.41.92//
CALSCALE:GREGORIAN
METHOD:PUBLISH
UID:64656261-3334-4432-b535-653431323539
X-WR-CALNAME:iCagenda
X-WR-CALDESC:Event Management Extension for Joomla!
X-WR-RELCALID:3E26604A-50F4-4449-8B3E-E4F4932D05B5
X-WR-TIMEZONE:UTC
BEGIN:VTIMEZONE
TZID:UTC
END:VTIMEZONE
BEGIN:VEVENT
UID:65393030-6436-4737-a637-383164323334
DTSTAMP:20260424T200040Z
CATEGORIES:Sommerfest
CLASS:PUBLIC
DESCRIPTION;ALTREP="CID:<FFFF__=0ABBE548DFE235B58f9e8a93d@coffeebean.com>":
  \n1. Tag vom Sommerfest 2026!\n \nBeginn 11:00 Uhr Ende = ?\n \nGäste mel
 den sich bitte bei uns an!\n \nBitte beachten!\nAnfahrt zu unserem Gelände
 !
DTSTART:20260822T100000Z
DTEND:20260822T235900Z
GEO:+53.072601;+8.767974
LOCATION:Vereinsgelände
ORGANIZER:
SEQUENCE:1
SUMMARY:Sommerfest 1. Tag
TRANSP:OPAQUE
URL:https://testjoomla.hansetrucker.de/index.php/component/icagenda/110-som
 merfest-1-tag-2?layout=vcal
END:VEVENT
END:VCALENDAR
