BEGIN:VCALENDAR
VERSION:2.0
PRODID:-//Hansetrucker Bremen e.V.//NONSGML kigkonsult.se iCalcreator 2.41.92//
CALSCALE:GREGORIAN
METHOD:PUBLISH
UID:34613535-3236-4965-a364-346230623362
X-WR-CALNAME:iCagenda
X-WR-CALDESC:Event Management Extension for Joomla!
X-WR-RELCALID:3E26604A-50F4-4449-8B3E-E4F4932D05B5
X-WR-TIMEZONE:UTC
BEGIN:VTIMEZONE
TZID:UTC
END:VTIMEZONE
BEGIN:VEVENT
UID:30663566-3635-4036-a665-666231356131
DTSTAMP:20260419T185958Z
CATEGORIES:Sonstiege Termine
CLASS:PUBLIC
DESCRIPTION;ALTREP="CID:<FFFF__=0ABBE548DFE235B58f9e8a93d@coffeebean.com>":
 Modellbautage im Straßenbahnmuseum\nAm Samstag\, den 10.10.26 sowie am Son
 ntag\, den 11.10.26 öffnet das Straßenbahnmuseum jeweils von 11.00 bis 17.
 00 Uhr (letzter Einlass 16.00 Uhr).Anlässlich der Modellbautage mit folgen
 dem Zusatzprogramm:\n\nModell-Straßenbahnanlage von Clublinie11\nIG Modell
 straßenbahn Hannover mit Anlage\nStand von Region im Modell\nTruck- und Fu
 nktionsmodelle von den Hansetrucker Bremen e.V.\n\n         Die Veranstalt
 ung wird ohne Mutterboden stattfinden\, Späne werden als Ersatz dienen!\n
 \nGastmodellbauanlagen\nShuttlebus zum Modell-Eisenbahn-Club Bremen e.V. m
 it historischen Omnibussen\n\nWir werden also mit dabei sein.\nAlle weiter
 en Informationen findet Ihr hier
DTSTART:20261011T110000Z
DTEND:20261011T170000Z
GEO:+53.061569;+8.899253
LOCATION:Freunde der Bremer Straßenbahn e.V
ORGANIZER:
SEQUENCE:1
SUMMARY:Modellbautage im Straßenbahnmuseum
TRANSP:OPAQUE
URL:https://testjoomla.hansetrucker.de/index.php/component/icagenda/119-mod
 ellbautage-im-strassenbahnmuseum-2
END:VEVENT
END:VCALENDAR
