BEGIN:VCALENDAR
VERSION:2.0
PRODID:-//Hansetrucker Bremen e.V.//NONSGML kigkonsult.se iCalcreator 2.41.92//
CALSCALE:GREGORIAN
METHOD:PUBLISH
UID:66323566-3961-4137-b834-353138306463
X-WR-CALNAME:iCagenda
X-WR-CALDESC:Event Management Extension for Joomla!
X-WR-RELCALID:3E26604A-50F4-4449-8B3E-E4F4932D05B5
X-WR-TIMEZONE:UTC
BEGIN:VTIMEZONE
TZID:UTC
END:VTIMEZONE
BEGIN:VEVENT
UID:66363739-6531-4131-b934-633466366263
DTSTAMP:20260425T022821Z
CATEGORIES:Sonstiege Termine
CLASS:PUBLIC
DESCRIPTION;ALTREP="CID:<FFFF__=0ABBE548DFE235B58f9e8a93d@coffeebean.com>":
 HanseLife\n \nWir werden auch dieses Jahr wieder mit einem mobilen Parcour
 s auf der HanseLife vertreten sein!\nIhjr findet uns in Halle 5!\n \nWir f
 reuen uns auf Euren Besuch!\n \nEure Hansetrucker
DTSTART:20210908T100000Z
DTEND:20210912T180000Z
GEO:+53.089241;+8.813157
LOCATION:
ORGANIZER:
SEQUENCE:1
SUMMARY:HanseLife 2021
TRANSP:OPAQUE
URL:https://testjoomla.hansetrucker.de/index.php/component/icagenda/33-hans
 elife-2021?layout=vcal
END:VEVENT
END:VCALENDAR
