BEGIN:VCALENDAR
VERSION:2.0
PRODID:-//Hansetrucker Bremen e.V.//NONSGML kigkonsult.se iCalcreator 2.41.92//
CALSCALE:GREGORIAN
METHOD:PUBLISH
UID:39343166-3631-4137-b165-306365373032
X-WR-CALNAME:iCagenda
X-WR-CALDESC:Event Management Extension for Joomla!
X-WR-RELCALID:3E26604A-50F4-4449-8B3E-E4F4932D05B5
X-WR-TIMEZONE:UTC
BEGIN:VTIMEZONE
TZID:UTC
END:VTIMEZONE
BEGIN:VEVENT
UID:37373839-3563-4534-a234-383362323335
DTSTAMP:20260424T095522Z
CATEGORIES:Vereinstermine
CLASS:PUBLIC
DESCRIPTION:
DTSTART:20230216T190000Z
DTEND:20230216T190000Z
GEO:+53.046474;+8.894636
LOCATION:Seekamp's Gasthaus
ORGANIZER:
SEQUENCE:1
SUMMARY:Clubabend
TRANSP:OPAQUE
URL:https://testjoomla.hansetrucker.de/index.php/component/icagenda/55-club
 abend?layout=vcal
END:VEVENT
END:VCALENDAR
