BEGIN:VCALENDAR
VERSION:2.0
PRODID:-//Hansetrucker Bremen e.V.//NONSGML kigkonsult.se iCalcreator 2.41.92//
CALSCALE:GREGORIAN
METHOD:PUBLISH
UID:33663938-6330-4631-b036-326566613732
X-WR-CALNAME:iCagenda
X-WR-CALDESC:Event Management Extension for Joomla!
X-WR-RELCALID:3E26604A-50F4-4449-8B3E-E4F4932D05B5
X-WR-TIMEZONE:UTC
BEGIN:VTIMEZONE
TZID:UTC
END:VTIMEZONE
BEGIN:VEVENT
UID:31363431-6433-4264-b238-313661353838
DTSTAMP:20260419T223715Z
CATEGORIES:Vereinstermine
CLASS:PUBLIC
DESCRIPTION:
DTSTART:20230817T190000Z
DTEND:20230817T190000Z
GEO:+53.046474;+8.894636
LOCATION:Seekamp's Gasthaus
ORGANIZER:
SEQUENCE:1
SUMMARY:Clubabend
TRANSP:OPAQUE
URL:https://testjoomla.hansetrucker.de/index.php/component/icagenda/60-club
 abend
END:VEVENT
END:VCALENDAR
