BEGIN:VCALENDAR
VERSION:2.0
PRODID:-//Hansetrucker Bremen e.V.//NONSGML kigkonsult.se iCalcreator 2.41.92//
CALSCALE:GREGORIAN
METHOD:PUBLISH
UID:65313665-6235-4436-a463-393164383064
X-WR-CALNAME:iCagenda
X-WR-CALDESC:Event Management Extension for Joomla!
X-WR-RELCALID:3E26604A-50F4-4449-8B3E-E4F4932D05B5
X-WR-TIMEZONE:UTC
BEGIN:VTIMEZONE
TZID:UTC
END:VTIMEZONE
BEGIN:VEVENT
UID:38633863-3932-4634-a434-323865666538
DTSTAMP:20260419T200345Z
CATEGORIES:Vereinstermine
CLASS:PUBLIC
DESCRIPTION:
DTSTART:20231116T190000Z
DTEND:20231116T190000Z
GEO:+53.046474;+8.894636
LOCATION:Seekamp's Gasthaus
ORGANIZER:
SEQUENCE:1
SUMMARY:Clubabend
TRANSP:OPAQUE
URL:https://testjoomla.hansetrucker.de/index.php/component/icagenda/63-club
 abend
END:VEVENT
END:VCALENDAR
