BEGIN:VCALENDAR
VERSION:2.0
PRODID:-//Hansetrucker Bremen e.V.//NONSGML kigkonsult.se iCalcreator 2.41.92//
CALSCALE:GREGORIAN
METHOD:PUBLISH
UID:31353930-3463-4562-b636-316631323835
X-WR-CALNAME:iCagenda
X-WR-CALDESC:Event Management Extension for Joomla!
X-WR-RELCALID:3E26604A-50F4-4449-8B3E-E4F4932D05B5
X-WR-TIMEZONE:UTC
BEGIN:VTIMEZONE
TZID:UTC
END:VTIMEZONE
BEGIN:VEVENT
UID:31366336-6136-4032-b535-643532656530
DTSTAMP:20260419T202622Z
CATEGORIES:Sommerfest
CLASS:PUBLIC
DESCRIPTION;ALTREP="CID:<FFFF__=0ABBE548DFE235B58f9e8a93d@coffeebean.com>":
 1. Tag vom Sommerfest 2023!\n \nBeginn 11:00 Uhr Ende = ?\n \nGäste melden
  sich bitte bei uns an!\n \nBitte beachten!\nAnfahrt zu unserem Gelände!
DTSTART:20230819T110000Z
DTEND:20230819T235900Z
GEO:+53.072861;+8.76733
LOCATION:Vereinsgelände
ORGANIZER:
SEQUENCE:1
SUMMARY:Sommerfest 2023 1. Tag
TRANSP:OPAQUE
URL:https://testjoomla.hansetrucker.de/index.php/component/icagenda/69-somm
 erfest-2023
END:VEVENT
END:VCALENDAR
