BEGIN:VCALENDAR
VERSION:2.0
PRODID:-//Hansetrucker Bremen e.V.//NONSGML kigkonsult.se iCalcreator 2.41.92//
CALSCALE:GREGORIAN
METHOD:PUBLISH
UID:62643730-6661-4434-b466-333834396435
X-WR-CALNAME:iCagenda
X-WR-CALDESC:Event Management Extension for Joomla!
X-WR-RELCALID:3E26604A-50F4-4449-8B3E-E4F4932D05B5
X-WR-TIMEZONE:UTC
BEGIN:VTIMEZONE
TZID:UTC
END:VTIMEZONE
BEGIN:VEVENT
UID:66636430-3434-4432-a532-303761333566
DTSTAMP:20260419T151510Z
CATEGORIES:Sommerfest
CLASS:PUBLIC
DESCRIPTION;ALTREP="CID:<FFFF__=0ABBE548DFE235B58f9e8a93d@coffeebean.com>":
 2. Tag vom Sommerfest 2023!\n \nBeginn 11:00 Uhr bis 17:00 Uhr ?\n \nGäste
  melden sich bitte bei uns an!\n \nBitte beachten!\nAnfahrt zu unserem Gel
 ände!\n\n 
DTSTART:20230820T110000Z
DTEND:20230820T170000Z
GEO:+53.072861;+8.76733
LOCATION:Vereinsgelände
ORGANIZER:
SEQUENCE:1
SUMMARY:Sommerfest 2023 2. Tag
TRANSP:OPAQUE
URL:https://testjoomla.hansetrucker.de/index.php/component/icagenda/70-somm
 erfest-2024
END:VEVENT
END:VCALENDAR
