BEGIN:VCALENDAR
VERSION:2.0
PRODID:-//Hansetrucker Bremen e.V.//NONSGML kigkonsult.se iCalcreator 2.41.92//
CALSCALE:GREGORIAN
METHOD:PUBLISH
UID:66373262-3938-4461-b864-636162663866
X-WR-CALNAME:iCagenda
X-WR-CALDESC:Event Management Extension for Joomla!
X-WR-RELCALID:3E26604A-50F4-4449-8B3E-E4F4932D05B5
X-WR-TIMEZONE:UTC
BEGIN:VTIMEZONE
TZID:UTC
END:VTIMEZONE
BEGIN:VEVENT
UID:32383165-3764-4338-b731-366539346430
DTSTAMP:20260419T172819Z
CATEGORIES:Fahren mit Gästen
CLASS:PUBLIC
DESCRIPTION;ALTREP="CID:<FFFF__=0ABBE548DFE235B58f9e8a93d@coffeebean.com>":
 Fahren mit Gästen im Oktober 2023\n \n- Nachtfahrt oder Funzel-Fahrt!\n- O
 pen end!\n \nAuch im Jahr 2023 bieten wir wieder die Möglichkeit an\, das 
 für Freunde\, Interessierte und Mitglieder anderer Vereine mit uns auf uns
 erem Pacour an der Pusdorfer Meile in Bremen-Woltmershausen fahren können!
 \n \n- Meldet Euch bitte über unser Anmeldeformular vorher an!\n \nFür Gäs
 te wird ein Startgeld von 5\,-€ / Tag als Unkostenpauschale erhoben.\nDami
 t kein Gastfahrer vergeblich anreist\, wird dringend empfohlen\, vorher  ü
 bers Kontaktformular anzufragen\, ob das Fahren auf der Anlage an dem betr
 effenden Sonntag stattfindet!\n \nEure Hansetrucker\n \nBitte beachten!\nA
 nfahrt zu unserem Gelände!
DTSTART:20231021T140000Z
DTEND:20231021T235900Z
GEO:+53.072861;+8.76733
LOCATION:
ORGANIZER:
SEQUENCE:1
SUMMARY:Fahren mit Gästen 'Funzel Fahrt'
TRANSP:OPAQUE
URL:https://testjoomla.hansetrucker.de/index.php/component/icagenda/72-fahr
 en-mit-gaesten-funzel-fahrt-2
END:VEVENT
END:VCALENDAR
