BEGIN:VCALENDAR
VERSION:2.0
PRODID:-//Hansetrucker Bremen e.V.//NONSGML kigkonsult.se iCalcreator 2.41.92//
CALSCALE:GREGORIAN
METHOD:PUBLISH
UID:65666361-6132-4465-b161-356639363763
X-WR-CALNAME:iCagenda
X-WR-CALDESC:Event Management Extension for Joomla!
X-WR-RELCALID:3E26604A-50F4-4449-8B3E-E4F4932D05B5
X-WR-TIMEZONE:UTC
BEGIN:VTIMEZONE
TZID:UTC
END:VTIMEZONE
BEGIN:VEVENT
UID:66393430-3366-4634-b834-363138353466
DTSTAMP:20260419T174511Z
CATEGORIES:Fahren mit Gästen
CLASS:PUBLIC
DESCRIPTION;ALTREP="CID:<FFFF__=0ABBE548DFE235B58f9e8a93d@coffeebean.com>":
 Fahren mit Gästen im Oktober 2024\n \n- Nachtfahrt oder Funzel-Fahrt!\n- O
 pen end!\n \nAuch im Jahr 2024 bieten wir wieder die Möglichkeit an\, das 
 für Freunde\, Interessierte und Mitglieder anderer Vereine mit uns auf uns
 erem Pacour an der Pusdorfer Meile in Bremen-Woltmershausen fahren können!
 \n \n- Meldet Euch bitte über unser Anmeldeformular vorher an!\n \nFür Gäs
 te wird ein Startgeld von 5\,-€ / Tag als Unkostenpauschale erhoben.\n \n 
 \nEure Hansetrucker\n \nBitte beachten!\nAnfahrt zu unserem Gelände!
DTSTART:20240921T140000Z
DTEND:20240921T235900Z
GEO:+53.07267;+8.768033
LOCATION:Vereinsgelände
ORGANIZER:
SEQUENCE:1
SUMMARY:Fahren mit Gästen 'Funzel Fahrt' September 2024
TRANSP:OPAQUE
URL:https://testjoomla.hansetrucker.de/index.php/component/icagenda/74-fahr
 en-mit-gaesten-funzel-fahrt-september-2024
END:VEVENT
END:VCALENDAR
