BEGIN:VCALENDAR
VERSION:2.0
PRODID:-//Hansetrucker Bremen e.V.//NONSGML kigkonsult.se iCalcreator 2.41.92//
CALSCALE:GREGORIAN
METHOD:PUBLISH
UID:64366462-3434-4061-a137-366335386236
X-WR-CALNAME:iCagenda
X-WR-CALDESC:Event Management Extension for Joomla!
X-WR-RELCALID:3E26604A-50F4-4449-8B3E-E4F4932D05B5
X-WR-TIMEZONE:UTC
BEGIN:VTIMEZONE
TZID:UTC
END:VTIMEZONE
BEGIN:VEVENT
UID:39376538-3864-4161-a463-333433643433
DTSTAMP:20260419T154531Z
CATEGORIES:Fahren mit Gästen
CLASS:PUBLIC
DESCRIPTION;ALTREP="CID:<FFFF__=0ABBE548DFE235B58f9e8a93d@coffeebean.com>":
  \nFahren mit Gästen im Oktober 2024\n \nAuch im Jahr 2024 bieten wir wied
 er die Möglichkeit an\, das für Freunde\, Interessierte und Mitglieder and
 erer Vereine mit uns auf unserem Pacour an der Pusdorfer Meile in Bremen-W
 oltmershausen fahren können!\n \n- Meldet Euch bitte über unser Anmeldefor
 mular vorher an!\n \nFür Gäste wird ein Startgeld von 5\,-€ / Tag als Unko
 stenpauschale erhoben.\n \n \nEure Hansetrucker\n \nBitte beachten!\nAnfah
 rt zu unserem Gelände!
DTSTART:20241003T100000Z
DTEND:20241003T235900Z
GEO:+53.072861;+8.76733
LOCATION:Vereinsgelände
ORGANIZER:
SEQUENCE:1
SUMMARY:Fahren mit Gästen im Oktober 2024
TRANSP:OPAQUE
URL:https://testjoomla.hansetrucker.de/index.php/component/icagenda/78-fahr
 en-mit-gaesten-im-oktober-2024
END:VEVENT
END:VCALENDAR
