BEGIN:VCALENDAR
VERSION:2.0
PRODID:-//Hansetrucker Bremen e.V.//NONSGML kigkonsult.se iCalcreator 2.41.92//
CALSCALE:GREGORIAN
METHOD:PUBLISH
UID:36386637-3662-4034-a564-323632636139
X-WR-CALNAME:iCagenda
X-WR-CALDESC:Event Management Extension for Joomla!
X-WR-RELCALID:3E26604A-50F4-4449-8B3E-E4F4932D05B5
X-WR-TIMEZONE:UTC
BEGIN:VTIMEZONE
TZID:UTC
END:VTIMEZONE
BEGIN:VEVENT
UID:33393436-3064-4563-b532-333936303836
DTSTAMP:20260419T202813Z
CATEGORIES:Sommerfest
CLASS:PUBLIC
DESCRIPTION;ALTREP="CID:<FFFF__=0ABBE548DFE235B58f9e8a93d@coffeebean.com>":
 1. Tag vom Sommerfest 2024!\n \nBeginn 10:00 Uhr Ende = ? (open end).\n \n
 Gäste melden sich bitte bei uns an!\n \nBitte beachten!\nAnfahrt zu unsere
 m Gelände!
DTSTART:20240817T100000Z
DTEND:20240817T235900Z
GEO:+53.072685;+8.768076
LOCATION:Vereinsgelände
ORGANIZER:
SEQUENCE:1
SUMMARY:Sommerfest 2024 1. Tag
TRANSP:OPAQUE
URL:https://testjoomla.hansetrucker.de/index.php/component/icagenda/79-somm
 erfest-202-4-1-tag
END:VEVENT
END:VCALENDAR
