BEGIN:VCALENDAR
VERSION:2.0
PRODID:-//Hansetrucker Bremen e.V.//NONSGML kigkonsult.se iCalcreator 2.41.92//
CALSCALE:GREGORIAN
METHOD:PUBLISH
UID:35303564-3835-4135-b731-393139343638
X-WR-CALNAME:iCagenda
X-WR-CALDESC:Event Management Extension for Joomla!
X-WR-RELCALID:3E26604A-50F4-4449-8B3E-E4F4932D05B5
X-WR-TIMEZONE:UTC
BEGIN:VTIMEZONE
TZID:UTC
END:VTIMEZONE
BEGIN:VEVENT
UID:64616163-3136-4265-b966-393130356630
DTSTAMP:20260419T145948Z
CATEGORIES:Sommerfest
CLASS:PUBLIC
DESCRIPTION;ALTREP="CID:<FFFF__=0ABBE548DFE235B58f9e8a93d@coffeebean.com>":
 2. Tag vom Sommerfest 2024!\n \nBeginn 10:00 Uhr Ende 17 Uhr\n \nGäste mel
 den sich bitte bei uns an!\n \nBitte beachten!\nAnfahrt zu unserem Gelände
 !
DTSTART:20240818T100000Z
DTEND:20240818T170000Z
GEO:+53.072674;+8.768119
LOCATION:Vereinsgelände
ORGANIZER:
SEQUENCE:1
SUMMARY:Sommerfest 2024 2.Tag
TRANSP:OPAQUE
URL:https://testjoomla.hansetrucker.de/index.php/component/icagenda/80-somm
 erfest-2024-2-tag
END:VEVENT
END:VCALENDAR
