BEGIN:VCALENDAR
VERSION:2.0
PRODID:-//Hansetrucker Bremen e.V.//NONSGML kigkonsult.se iCalcreator 2.41.92//
CALSCALE:GREGORIAN
METHOD:PUBLISH
UID:63643833-3135-4239-b637-303863393336
X-WR-CALNAME:iCagenda
X-WR-CALDESC:Event Management Extension for Joomla!
X-WR-RELCALID:3E26604A-50F4-4449-8B3E-E4F4932D05B5
X-WR-TIMEZONE:UTC
BEGIN:VTIMEZONE
TZID:UTC
END:VTIMEZONE
BEGIN:VEVENT
UID:65393565-6534-4165-b564-343164656431
DTSTAMP:20260424T200048Z
CATEGORIES:Clubabend
CLASS:PUBLIC
DESCRIPTION:
DTSTART:20240919T190000Z
DTEND:20240919T210000Z
GEO:+53.04644;+8.894458
LOCATION:Seekamp's Gasthaus
ORGANIZER:
SEQUENCE:1
SUMMARY:Clubabend
TRANSP:OPAQUE
URL:https://testjoomla.hansetrucker.de/index.php/component/icagenda/88-club
 abend-8?layout=vcal
END:VEVENT
END:VCALENDAR
