BEGIN:VCALENDAR
VERSION:2.0
PRODID:-//Hansetrucker Bremen e.V.//NONSGML kigkonsult.se iCalcreator 2.41.92//
CALSCALE:GREGORIAN
METHOD:PUBLISH
UID:34316166-6537-4039-b661-373066333664
X-WR-CALNAME:iCagenda
X-WR-CALDESC:Event Management Extension for Joomla!
X-WR-RELCALID:3E26604A-50F4-4449-8B3E-E4F4932D05B5
X-WR-TIMEZONE:UTC
BEGIN:VTIMEZONE
TZID:UTC
END:VTIMEZONE
BEGIN:VEVENT
UID:34646462-6534-4633-a161-326261306333
DTSTAMP:20260424T200048Z
CATEGORIES:Clubabend
CLASS:PUBLIC
DESCRIPTION:
DTSTART:20241017T190000Z
DTEND:20241017T210000Z
GEO:+53.046436;+8.894451
LOCATION:Seekamp's Gasthaus
ORGANIZER:
SEQUENCE:1
SUMMARY:Clubabend
TRANSP:OPAQUE
URL:https://testjoomla.hansetrucker.de/index.php/component/icagenda/89-club
 abend-9?layout=vcal
END:VEVENT
END:VCALENDAR
