BEGIN:VCALENDAR
VERSION:2.0
PRODID:-//Hansetrucker Bremen e.V.//NONSGML kigkonsult.se iCalcreator 2.41.92//
CALSCALE:GREGORIAN
METHOD:PUBLISH
UID:65306636-3366-4539-b562-336532396434
X-WR-CALNAME:iCagenda
X-WR-CALDESC:Event Management Extension for Joomla!
X-WR-RELCALID:3E26604A-50F4-4449-8B3E-E4F4932D05B5
X-WR-TIMEZONE:UTC
BEGIN:VTIMEZONE
TZID:UTC
END:VTIMEZONE
BEGIN:VEVENT
UID:62323636-6535-4738-a637-323030626438
DTSTAMP:20260419T232734Z
CATEGORIES:Sonstiege Termine
CLASS:PUBLIC
DESCRIPTION;ALTREP="CID:<FFFF__=0ABBE548DFE235B58f9e8a93d@coffeebean.com>":
 Modellbahntage und 100 Jahre Omnibus in Bremen im Straßenbahnmuseum\nAm Sa
 mstag\, den 12.10.2024 sowie am Sonntag\, den 13.10.2024 öffnet das Straße
 nbahnmuseum jeweils von 11.00 bis 17.00 Uhr (letzter Einlass 16.00 Uhr).An
 lässlich der Modellbahntage und dem Jubiläum mit folgendem Zusatzprogramm:
 \n\nModell-Straßenbahnanlage von Clublinie11\nGastmodellbauer\nIG Modellst
 raßenbahn Hannover mit Anlage\nStand von Region im Modell\nTruck- und Funk
 tionsmodelle von den Hansetrucker Bremen e.V.\nShuttlebus zum Modell-Eisen
 bahn-Club Bremen e.V. mit historischen Omnibussen\nGastfahrzeuge\nOmnibus-
  Fahrzeug Ausstellung\n\nWir werden also mit dabei sein.\nAlle weiteren In
 formationen findet Ihr hier
DTSTART:20241012T110000Z
DTEND:20241012T170000Z
GEO:+53.061569;+8.899253
LOCATION:Freunde der Bremer Straßenbahn e.V
ORGANIZER:
SEQUENCE:1
SUMMARY:Modellbahntage und 100 Jahre Omnibus in Bremen im Straßenbahnmuseum
TRANSP:OPAQUE
URL:https://testjoomla.hansetrucker.de/index.php/component/icagenda/93-mode
 llbahntage-und-100-jahre-omnibus-in-bremen-im-strassenbahnmuseum
END:VEVENT
END:VCALENDAR
